BEGIN:VCALENDAR
VERSION:2.0
PRODID:-//ogden4arts.org//NONSGML kigkonsult.se iCalcreator 2.30.10//
CALSCALE:GREGORIAN
METHOD:PUBLISH
UID:95723358-23d2-40f6-a3f5-046e56fc746f
X-WR-CALDESC:Write/Author Rachael Bush will be presenting an Introduction t
 o Creative Writing Workshop at the Eccles Art Center\, 2580 Jefferson Aven
 ue\, Ogden on Tuesday evenings from 5 to 6:15 p.m.  July 11 through August
  15\, 2023.  Tuition\; $80.  Online registration is available at www.ogden
 4arts.org or by calling a member of the art center staff at 801-392-6935.
 \n\n
X-WR-RELCALID:2bc6573c4aeb8b01d85326c4b935b9cf
X-WR-TIMEZONE:America/Denver
BEGIN:VTIMEZONE
TZID:America/Denver
BEGIN:STANDARD
TZNAME:MST
DTSTART:20221106T020000
TZOFFSETFROM:-0600
TZOFFSETTO:-0700
RDATE:20231105T020000
RDATE:20241103T020000
END:STANDARD
BEGIN:DAYLIGHT
TZNAME:MDT
DTSTART:20230312T020000
TZOFFSETFROM:-0700
TZOFFSETTO:-0600
RDATE:20240310T020000
END:DAYLIGHT
END:VTIMEZONE
BEGIN:VEVENT
UID:8ec8495b-d1c6-4054-b661-13f924317556
DTSTAMP:20260421T091621Z
DESCRIPTION:Write/Author Rachael Bush will be presenting an Introduction to
  Creative Writing Workshop at the Eccles Art Center\, 2580 Jefferson Avenu
 e\, Ogden on Tuesday evenings from 5 to 6:15 p.m.  July 11 through August 
 15\, 2023.  Tuition\; $80.  Online registration is available at www.ogden4
 arts.org or by calling a member of the art center staff at 801-392-6935.\n
 \n
DTSTART;TZID=America/Denver:20230711T170000
DTEND;TZID=America/Denver:20230711T180000
LOCATION:2580 Jefferson Ave\, Ogden\, UT 84401 US
SUMMARY:Creative Writing with Rachael Bush
END:VEVENT
END:VCALENDAR
