BEGIN:VCALENDAR
VERSION:2.0
PRODID:-//ogden4arts.org//NONSGML kigkonsult.se iCalcreator 2.30.10//
CALSCALE:GREGORIAN
METHOD:PUBLISH
UID:7d297e52-f49f-4442-b6e2-c4ed07f255ed
X-WR-CALDESC:Artist/instructor Wendy Dimick will present an introduction to
  watercolor class at the Eccles Art Center\, 2580 Jefferson Avenue\, Ogden
  on Monday evenings 6 to 8 p.m. June 12 through July 17\, 2023.  Registeri
 ng students should bring a small set of watercolors such as Prang or Crayo
 la and a variety of brushes.  The teacher will supply watercolor paper.  T
 uition: $60.  Register online at www.ogden4arts.org visual art menu or by 
 calling a member of the art center staff at 801-392-6935.
X-WR-RELCALID:458abfbfc17645f07cc6f055eeaeb948
X-WR-TIMEZONE:America/Denver
BEGIN:VTIMEZONE
TZID:America/Denver
BEGIN:STANDARD
TZNAME:MST
DTSTART:20221106T020000
TZOFFSETFROM:-0600
TZOFFSETTO:-0700
RDATE:20231105T020000
RDATE:20241103T020000
END:STANDARD
BEGIN:DAYLIGHT
TZNAME:MDT
DTSTART:20230312T020000
TZOFFSETFROM:-0700
TZOFFSETTO:-0600
RDATE:20240310T020000
END:DAYLIGHT
END:VTIMEZONE
BEGIN:VEVENT
UID:d290793f-28ac-4df2-91d1-b6a02d610696
DTSTAMP:20260421T103845Z
DESCRIPTION:Artist/instructor Wendy Dimick will present an introduction to 
 watercolor class at the Eccles Art Center\, 2580 Jefferson Avenue\, Ogden 
 on Monday evenings 6 to 8 p.m. June 12 through July 17\, 2023.  Registerin
 g students should bring a small set of watercolors such as Prang or Crayol
 a and a variety of brushes.  The teacher will supply watercolor paper.  Tu
 ition: $60.  Register online at www.ogden4arts.org visual art menu or by c
 alling a member of the art center staff at 801-392-6935.
DTSTART;TZID=America/Denver:20230612T180000
DTEND;TZID=America/Denver:20230612T200000
LOCATION:2580 Jefferson Ave\, Ogden\, UT 84401 US
SUMMARY:Introduction to Watercolor
END:VEVENT
END:VCALENDAR
