BEGIN:VCALENDAR
VERSION:2.0
PRODID:-//ogden4arts.org//NONSGML kigkonsult.se iCalcreator 2.30.10//
CALSCALE:GREGORIAN
METHOD:PUBLISH
UID:9fe2237a-9bb1-44aa-8eaa-3094d3523fb5
X-WR-CALDESC:Artist Jennifer Sorenson will supervise the Eccles Art Center’
 s open studio class on Thursdays\, beginning January 5\, 2023 from 11:00 a
 .m. to 1:00 p.m. Student may bring and work on art projects in an open stu
 dio setting.  Tuition: 4week punch pass: $45\, Drop-in rate: $15. The Eccl
 es Art Center is located in Ogden at 2580 Jefferson Avenue\, Ogden.  Regis
 ter on-line at www.ogden4arts.org.
X-WR-RELCALID:92c64808a5be5235cce1c86981c2c24a
X-WR-TIMEZONE:America/Denver
BEGIN:VTIMEZONE
TZID:America/Denver
BEGIN:STANDARD
TZNAME:MST
DTSTART:20221106T020000
TZOFFSETFROM:-0600
TZOFFSETTO:-0700
RDATE:20231105T020000
RDATE:20241103T020000
END:STANDARD
BEGIN:DAYLIGHT
TZNAME:MDT
DTSTART:20230312T020000
TZOFFSETFROM:-0700
TZOFFSETTO:-0600
RDATE:20240310T020000
END:DAYLIGHT
END:VTIMEZONE
BEGIN:VEVENT
UID:c359ab59-fb7a-4158-baf3-431395bd6851
DTSTAMP:20260421T115957Z
DESCRIPTION:Artist Jennifer Sorenson will supervise the Eccles Art Center’s
  open studio class on Thursdays\, beginning January 5\, 2023 from 11:00 a.
 m. to 1:00 p.m. Student may bring and work on art projects in an open stud
 io setting.  Tuition: 4week punch pass: $45\, Drop-in rate: $15. The Eccle
 s Art Center is located in Ogden at 2580 Jefferson Avenue\, Ogden.  Regist
 er on-line at www.ogden4arts.org.
DTSTART;TZID=America/Denver:20230518T110000
DTEND;TZID=America/Denver:20230518T130000
LOCATION:2580 Jefferson Ave\, Ogden\, UT 84401-2411 US
SUMMARY:Open Studio
END:VEVENT
END:VCALENDAR
