BEGIN:VCALENDAR
VERSION:2.0
PRODID:-//ogden4arts.org//NONSGML kigkonsult.se iCalcreator 2.30.10//
CALSCALE:GREGORIAN
METHOD:PUBLISH
UID:f27f2864-c93c-44ab-8e2d-b46bb2775126
X-WR-CALDESC:Artist\, Terrece Beesley will teach an intermediate level wate
 rcolor studio class at the Eccles Art Center\, 2580 Jefferson Avenue\, Ogd
 en on Monday evenings 6:30 to 8:30p.m. February 27 through April 10\, 2023
 .  Tuition: $132. Advance registration is suggested as space is limited. R
 egistration may be completed online at www.ogden4arts.org or through calli
 ng a member of the art center staff at 801-392-6935.
X-WR-RELCALID:7b0856a66b9873bb1ed25abc70213947
X-WR-TIMEZONE:America/Denver
BEGIN:VTIMEZONE
TZID:America/Denver
BEGIN:STANDARD
TZNAME:MST
DTSTART:20221106T020000
TZOFFSETFROM:-0600
TZOFFSETTO:-0700
RDATE:20231105T020000
END:STANDARD
BEGIN:DAYLIGHT
TZNAME:MDT
DTSTART:20230312T020000
TZOFFSETFROM:-0700
TZOFFSETTO:-0600
RDATE:20240310T020000
END:DAYLIGHT
END:VTIMEZONE
BEGIN:VEVENT
UID:c3bbc2b4-e8b8-4ed9-9f7c-eacbc624c8fb
DTSTAMP:20260421T133106Z
DESCRIPTION:Artist\, Terrece Beesley will teach an intermediate level water
 color studio class at the Eccles Art Center\, 2580 Jefferson Avenue\, Ogde
 n on Monday evenings 6:30 to 8:30p.m. February 27 through April 10\, 2023.
   Tuition: $132. Advance registration is suggested as space is limited. Re
 gistration may be completed online at www.ogden4arts.org or through callin
 g a member of the art center staff at 801-392-6935.
DTSTART;TZID=America/Denver:20230403T183000
DTEND;TZID=America/Denver:20230403T203000
LOCATION:2580 Jefferson Ave\, Ogden\, UT 84401 US
SUMMARY:Intermediate Watercolor Studio
END:VEVENT
END:VCALENDAR
