BEGIN:VCALENDAR
VERSION:2.0
PRODID:-//ogden4arts.org//NONSGML kigkonsult.se iCalcreator 2.30.10//
CALSCALE:GREGORIAN
METHOD:PUBLISH
UID:2e0c979a-7dc3-45be-8df4-16cb2f6fc609
X-WR-CALDESC:Fine Art Photographer\, Bruce Frandsen will present The Art an
 d Science of Extraordinary Photography workshop at the Eccles Art Center\,
  2580 Jefferson Avenue\, Ogden on Tuesday evenings from 6:30 to 8:30 p.m. 
 March 28 through May 2\, 2023.  This workshop includes weekly homework and
  a field trip where students will have an opportunity to use what they lea
 rn.  Students should bring their camera.  Tuition: $130.  Register through
  the art center’s website: www.ogden4arts.org or by calling a member of th
 e center’s staff at 801-392-6935.
X-WR-RELCALID:a86ac66aac7c57deb28c21845c25af3b
X-WR-TIMEZONE:America/Denver
BEGIN:VTIMEZONE
TZID:America/Denver
BEGIN:STANDARD
TZNAME:MST
DTSTART:20221106T020000
TZOFFSETFROM:-0600
TZOFFSETTO:-0700
RDATE:20231105T020000
END:STANDARD
BEGIN:DAYLIGHT
TZNAME:MDT
DTSTART:20230312T020000
TZOFFSETFROM:-0700
TZOFFSETTO:-0600
RDATE:20240310T020000
END:DAYLIGHT
END:VTIMEZONE
BEGIN:VEVENT
UID:55c42753-be36-459f-ab92-a06c5ead2bdf
DTSTAMP:20260421T145436Z
DESCRIPTION:Fine Art Photographer\, Bruce Frandsen will present The Art and
  Science of Extraordinary Photography workshop at the Eccles Art Center\, 
 2580 Jefferson Avenue\, Ogden on Tuesday evenings from 6:30 to 8:30 p.m. M
 arch 28 through May 2\, 2023.  This workshop includes weekly homework and 
 a field trip where students will have an opportunity to use what they lear
 n.  Students should bring their camera.  Tuition: $130.  Register through 
 the art center’s website: www.ogden4arts.org or by calling a member of the
  center’s staff at 801-392-6935.
DTSTART;TZID=America/Denver:20230328T183000
DTEND;TZID=America/Denver:20230328T203000
LOCATION:2580 Jefferson Ave\, Ogden\, UT 84401 US
SUMMARY:The Art & Science of Extraordinary Photography
END:VEVENT
END:VCALENDAR
