BEGIN:VCALENDAR
VERSION:2.0
PRODID:-//ogden4arts.org//NONSGML kigkonsult.se iCalcreator 2.30.10//
CALSCALE:GREGORIAN
METHOD:PUBLISH
UID:fa8e960e-3594-4cc3-97bf-ce2fed9e2658
X-WR-CALDESC:A new session of FCBD ® (Fat Chance Belly Dance) level 1 will 
 begin on Tuesday\, February 21\, 2023 and continue of Tuesday evenings fro
 m 6:30 to 7:30 p.m. through March 28\, 2023.  Tuition for his 6-week progr
 am is $50.  A nightly drop-in fee is set for $10. Registration may be hand
 les on-line at www.ogden4arts.org or by calling a member of the art center
  staff at 801-392-6935.
X-WR-RELCALID:70416286f17949958aad685ba03d9525
X-WR-TIMEZONE:America/Denver
BEGIN:VTIMEZONE
TZID:America/Denver
BEGIN:STANDARD
TZNAME:MST
DTSTART:20221106T020000
TZOFFSETFROM:-0600
TZOFFSETTO:-0700
RDATE:20231105T020000
END:STANDARD
BEGIN:DAYLIGHT
TZNAME:MDT
DTSTART:20230312T020000
TZOFFSETFROM:-0700
TZOFFSETTO:-0600
RDATE:20240310T020000
END:DAYLIGHT
END:VTIMEZONE
BEGIN:VEVENT
UID:89b00144-c8fc-46c9-b028-df721303f413
DTSTAMP:20260421T145314Z
DESCRIPTION:A new session of FCBD ® (Fat Chance Belly Dance) level 1 will b
 egin on Tuesday\, February 21\, 2023 and continue of Tuesday evenings from
  6:30 to 7:30 p.m. through March 28\, 2023.  Tuition for his 6-week progra
 m is $50.  A nightly drop-in fee is set for $10. Registration may be handl
 es on-line at www.ogden4arts.org or by calling a member of the art center 
 staff at 801-392-6935.
DTSTART;TZID=America/Denver:20230321T183000
DTEND;TZID=America/Denver:20230321T193000
LOCATION:2580 Jefferson Ave\, Ogden\, UT 84401 US
SUMMARY:FCBD ® (Fat Chance Belly Dance) level 1
END:VEVENT
END:VCALENDAR
