BEGIN:VCALENDAR
VERSION:2.0
PRODID:-//ogden4arts.org//NONSGML kigkonsult.se iCalcreator 2.30.10//
CALSCALE:GREGORIAN
METHOD:PUBLISH
UID:336cea81-b635-4145-be2c-d4741bad25a9
X-WR-CALDESC:Deborah Barnes-Allan will lead a Chair Yoga for Healthy Brain 
 & Vibrant Wellbeing at the Eccles Art Center\, 2580 Jefferson Avenue\, Ogd
 en on Friday mornings from 9:30 to 10:30 a.m. beginning March 3\, 2023.  T
 his class is recommended for the 50 + age group who are inspired to push b
 eyond the challenge of aging.  It will focus on soothing breathing practic
 es\, slow mindful repetitive movements to build neuroplasticity and a stro
 ng resilient body and mind.  Tuition for 8 classes: $88\, drop-in rate: $1
 2.  To register on-line visit: www.ogden4arts.org  or call a member of the
  art center staff at 801-392-6935.
X-WR-RELCALID:1a1b18e9a1fb59c0390a5a97b2772a77
X-WR-TIMEZONE:America/Denver
BEGIN:VTIMEZONE
TZID:America/Denver
BEGIN:STANDARD
TZNAME:MST
DTSTART:20221106T020000
TZOFFSETFROM:-0600
TZOFFSETTO:-0700
RDATE:20231105T020000
END:STANDARD
BEGIN:DAYLIGHT
TZNAME:MDT
DTSTART:20220313T020000
TZOFFSETFROM:-0700
TZOFFSETTO:-0600
RDATE:20230312T020000
RDATE:20240310T020000
END:DAYLIGHT
END:VTIMEZONE
BEGIN:VEVENT
UID:36c3ea57-161a-4199-895d-170be515149e
DTSTAMP:20260421T145836Z
DESCRIPTION:Deborah Barnes-Allan will lead a Chair Yoga for Healthy Brain &
  Vibrant Wellbeing at the Eccles Art Center\, 2580 Jefferson Avenue\, Ogde
 n on Friday mornings from 9:30 to 10:30 a.m. beginning March 3\, 2023.  Th
 is class is recommended for the 50 + age group who are inspired to push be
 yond the challenge of aging.  It will focus on soothing breathing practice
 s\, slow mindful repetitive movements to build neuroplasticity and a stron
 g resilient body and mind.  Tuition for 8 classes: $88\, drop-in rate: $12
 .  To register on-line visit: www.ogden4arts.org  or call a member of the 
 art center staff at 801-392-6935.
DTSTART;TZID=America/Denver:20230310T093000
DTEND;TZID=America/Denver:20230310T103000
LOCATION:2580 Jefferson Ave\, Ogden\, UT 84401 US
SUMMARY:Chair Yoga for Healthy Brain & Vibrant Wellbeing
END:VEVENT
END:VCALENDAR
