BEGIN:VCALENDAR
VERSION:2.0
PRODID:-//ogden4arts.org//NONSGML kigkonsult.se iCalcreator 2.30.10//
CALSCALE:GREGORIAN
METHOD:PUBLISH
UID:82b7f387-c2f7-4a75-ae8b-e7fc3d4ee0e2
X-WR-CALDESC:Wine expert Jay Hart will lead a 4 class tasting of wines of t
 he United States at the Eccles Art Center\, 2580 Jefferson Avenue\, Ogden 
 on Thursday evenings from 7:30 to 9 p.m.  March 9 through 30\, 2023.  Regi
 stering students must be over 21years old.  Class size is small.  Registra
 tion through payment is a must and may be accomplished through the art cen
 ter’s website: www.ogden4arts.org or by calling a member of the center’s s
 taff at 801-392-6935.
X-WR-RELCALID:38201ee0bf7c1794eb7fa71acd8d32ab
X-WR-TIMEZONE:America/Denver
BEGIN:VTIMEZONE
TZID:America/Denver
BEGIN:STANDARD
TZNAME:MST
DTSTART:20221106T020000
TZOFFSETFROM:-0600
TZOFFSETTO:-0700
RDATE:20231105T020000
END:STANDARD
BEGIN:DAYLIGHT
TZNAME:MDT
DTSTART:20220313T020000
TZOFFSETFROM:-0700
TZOFFSETTO:-0600
RDATE:20230312T020000
RDATE:20240310T020000
END:DAYLIGHT
END:VTIMEZONE
BEGIN:VEVENT
UID:fc51efd6-7f31-4a46-8d77-49d3375af3f3
DTSTAMP:20260421T145134Z
DESCRIPTION:Wine expert Jay Hart will lead a 4 class tasting of wines of th
 e United States at the Eccles Art Center\, 2580 Jefferson Avenue\, Ogden o
 n Thursday evenings from 7:30 to 9 p.m.  March 9 through 30\, 2023.  Regis
 tering students must be over 21years old.  Class size is small.  Registrat
 ion through payment is a must and may be accomplished through the art cent
 er’s website: www.ogden4arts.org or by calling a member of the center’s st
 aff at 801-392-6935.
DTSTART;TZID=America/Denver:20230309T193000
DTEND;TZID=America/Denver:20230309T210000
LOCATION:2580 Jefferson Ave\, Ogden\, UT 84401 US
SUMMARY:Wine Tasting: US Wines
END:VEVENT
END:VCALENDAR
