BEGIN:VCALENDAR
VERSION:2.0
PRODID:-//ogden4arts.org//NONSGML kigkonsult.se iCalcreator 2.30.10//
CALSCALE:GREGORIAN
METHOD:PUBLISH
UID:b093d805-ca36-4d5b-886a-3bf3529d430e
X-WR-CALDESC:Artist\, Terrece Beesley will teach an intermediate level wate
 rcolor studio class at the Eccles Art Center\, 2580 Jefferson Avenue\, Ogd
 en on Monday evenings 6:30 to 8:30p.m. February 27 through April 10\, 2023
 .  Tuition: $132. Advance registration is suggested as space is limited. R
 egistration may be completed online at www.ogden4arts.org or through calli
 ng a member of the art center staff at 801-392-6935.
X-WR-RELCALID:739f87083dc7b41b161915d715536665
X-WR-TIMEZONE:America/Denver
BEGIN:VTIMEZONE
TZID:America/Denver
BEGIN:STANDARD
TZNAME:MST
DTSTART:20221106T020000
TZOFFSETFROM:-0600
TZOFFSETTO:-0700
RDATE:20231105T020000
END:STANDARD
BEGIN:DAYLIGHT
TZNAME:MDT
DTSTART:20220313T020000
TZOFFSETFROM:-0700
TZOFFSETTO:-0600
RDATE:20230312T020000
RDATE:20240310T020000
END:DAYLIGHT
END:VTIMEZONE
BEGIN:VEVENT
UID:122bea4a-1af0-4e5c-a39d-100a5b56da3a
DTSTAMP:20260421T145145Z
DESCRIPTION:Artist\, Terrece Beesley will teach an intermediate level water
 color studio class at the Eccles Art Center\, 2580 Jefferson Avenue\, Ogde
 n on Monday evenings 6:30 to 8:30p.m. February 27 through April 10\, 2023.
   Tuition: $132. Advance registration is suggested as space is limited. Re
 gistration may be completed online at www.ogden4arts.org or through callin
 g a member of the art center staff at 801-392-6935.
DTSTART;TZID=America/Denver:20230306T183000
DTEND;TZID=America/Denver:20230306T203000
LOCATION:2580 Jefferson Ave\, Ogden\, UT 84401 US
SUMMARY:Intermediate Watercolor Studio
END:VEVENT
END:VCALENDAR
