BEGIN:VCALENDAR
VERSION:2.0
PRODID:-//ogden4arts.org//NONSGML kigkonsult.se iCalcreator 2.30.10//
CALSCALE:GREGORIAN
METHOD:PUBLISH
UID:07322c70-ee1a-456b-a545-7dc1e2cb717f
X-WR-CALDESC:Certified instructor\, Deborah Barnes-Allan will teach Tai Ji 
 Quan: Moving for Better Balance ® an evidence based program at the Eccles 
 Art Center\, 2580 Jefferson Avenue\, Ogden.  This program is designed to t
 rain balance\, promote and maintain physical and mental health\, manage ch
 ronic disease conditions\, improve function in people with neurological di
 sease and reduce health risks and incidence of fall. Beginning March 1\, 2
 023 offered Mondays & Wednesdays\, 11:30 a.m. to 12:30 p.m. through August
  30\, 2023 * program compliance 50 hours training.  Tuition/16 classes: $8
 8\, drop-in rate $8.  Register on-line at www.ogden4arts.org or by calling
  a member of the art center staff at 801-392-6935.
X-WR-RELCALID:ca84edbff352c18f5702fc7a5804850c
X-WR-TIMEZONE:America/Denver
BEGIN:VTIMEZONE
TZID:America/Denver
BEGIN:STANDARD
TZNAME:MST
DTSTART:20221106T020000
TZOFFSETFROM:-0600
TZOFFSETTO:-0700
RDATE:20231105T020000
END:STANDARD
BEGIN:DAYLIGHT
TZNAME:MDT
DTSTART:20220313T020000
TZOFFSETFROM:-0700
TZOFFSETTO:-0600
RDATE:20230312T020000
RDATE:20240310T020000
END:DAYLIGHT
END:VTIMEZONE
BEGIN:VEVENT
UID:8fa3a029-9078-49c1-aef6-945b2981d2db
DTSTAMP:20260421T145411Z
DESCRIPTION:Certified instructor\, Deborah Barnes-Allan will teach Tai Ji Q
 uan: Moving for Better Balance ® an evidence based program at the Eccles A
 rt Center\, 2580 Jefferson Avenue\, Ogden.  This program is designed to tr
 ain balance\, promote and maintain physical and mental health\, manage chr
 onic disease conditions\, improve function in people with neurological dis
 ease and reduce health risks and incidence of fall. Beginning March 1\, 20
 23 offered Mondays & Wednesdays\, 11:30 a.m. to 12:30 p.m. through August 
 30\, 2023 * program compliance 50 hours training.  Tuition/16 classes: $88
 \, drop-in rate $8.  Register on-line at www.ogden4arts.org or by calling 
 a member of the art center staff at 801-392-6935.
DTSTART;TZID=America/Denver:20230301T113000
DTEND;TZID=America/Denver:20230301T123000
LOCATION:2580 Jefferson Ave\, Ogden\, UT 84401 US
SUMMARY:Tai Ji Quan: Moving for Better Balance
END:VEVENT
END:VCALENDAR
