BEGIN:VCALENDAR
VERSION:2.0
PRODID:-//ogden4arts.org//NONSGML kigkonsult.se iCalcreator 2.30.10//
CALSCALE:GREGORIAN
METHOD:PUBLISH
UID:b4d04374-19af-45a8-a7c5-80ea6d690ff7
X-WR-CALDESC:Artist Jennifer Sorenson will supervise the Eccles Art Center’
 s open studio class on Thursdays\, beginning January 5\, 2023 from 11:00 a
 .m. to 1:00 p.m. Student may bring and work on art projects in an open stu
 dio setting.  Tuition: 4week punch pass: $45\, Drop-in rate: $15. The Eccl
 es Art Center is located in Ogden at 2580 Jefferson Avenue\, Ogden.  Regis
 ter on-line at www.ogden4arts.org.
X-WR-RELCALID:e9d50e1382f9eede77afd9a74da0c92e
X-WR-TIMEZONE:America/Denver
BEGIN:VTIMEZONE
TZID:America/Denver
BEGIN:STANDARD
TZNAME:MST
DTSTART:20221106T020000
TZOFFSETFROM:-0600
TZOFFSETTO:-0700
RDATE:20231105T020000
END:STANDARD
BEGIN:DAYLIGHT
TZNAME:MDT
DTSTART:20220313T020000
TZOFFSETFROM:-0700
TZOFFSETTO:-0600
RDATE:20230312T020000
RDATE:20240310T020000
END:DAYLIGHT
END:VTIMEZONE
BEGIN:VEVENT
UID:85ca3f6a-be33-41d3-bd1f-9f00dc64f1e4
DTSTAMP:20260421T161059Z
DESCRIPTION:Artist Jennifer Sorenson will supervise the Eccles Art Center’s
  open studio class on Thursdays\, beginning January 5\, 2023 from 11:00 a.
 m. to 1:00 p.m. Student may bring and work on art projects in an open stud
 io setting.  Tuition: 4week punch pass: $45\, Drop-in rate: $15. The Eccle
 s Art Center is located in Ogden at 2580 Jefferson Avenue\, Ogden.  Regist
 er on-line at www.ogden4arts.org.
DTSTART;TZID=America/Denver:20230223T110000
DTEND;TZID=America/Denver:20230223T130000
LOCATION:2580 Jefferson Ave\, Ogden\, UT 84401-2411 US
SUMMARY:Open Studio
END:VEVENT
END:VCALENDAR
