BEGIN:VCALENDAR
VERSION:2.0
PRODID:-//ogden4arts.org//NONSGML kigkonsult.se iCalcreator 2.30.10//
CALSCALE:GREGORIAN
METHOD:PUBLISH
UID:18bd7555-2fb1-4118-9e35-fb5eecc5cde3
X-WR-CALDESC:A new session of FCBD ® (Fat Chance Belly Dance) level 1 will 
 begin on Tuesday\, February 21\, 2023 and continue of Tuesday evenings fro
 m 6:30 to 7:30 p.m. through March 28\, 2023.  Tuition for his 6-week progr
 am is $50.  A nightly drop-in fee is set for $10. Registration may be hand
 les on-line at www.ogden4arts.org or by calling a member of the art center
  staff at 801-392-6935.
X-WR-RELCALID:3c6e16fd9120e8047f4a7c4b44007fec
X-WR-TIMEZONE:America/Denver
BEGIN:VTIMEZONE
TZID:America/Denver
BEGIN:STANDARD
TZNAME:MST
DTSTART:20221106T020000
TZOFFSETFROM:-0600
TZOFFSETTO:-0700
RDATE:20231105T020000
END:STANDARD
BEGIN:DAYLIGHT
TZNAME:MDT
DTSTART:20220313T020000
TZOFFSETFROM:-0700
TZOFFSETTO:-0600
RDATE:20230312T020000
RDATE:20240310T020000
END:DAYLIGHT
END:VTIMEZONE
BEGIN:VEVENT
UID:3b4e6464-5e2a-4a8a-b0ad-e5b74d1f4856
DTSTAMP:20260421T161044Z
DESCRIPTION:A new session of FCBD ® (Fat Chance Belly Dance) level 1 will b
 egin on Tuesday\, February 21\, 2023 and continue of Tuesday evenings from
  6:30 to 7:30 p.m. through March 28\, 2023.  Tuition for his 6-week progra
 m is $50.  A nightly drop-in fee is set for $10. Registration may be handl
 es on-line at www.ogden4arts.org or by calling a member of the art center 
 staff at 801-392-6935.
DTSTART;TZID=America/Denver:20230221T183000
DTEND;TZID=America/Denver:20230221T193000
LOCATION:2580 Jefferson Ave\, Ogden\, UT 84401 US
SUMMARY:FCBD ® (Fat Chance Belly Dance) level 1
END:VEVENT
END:VCALENDAR
