BEGIN:VCALENDAR
VERSION:2.0
PRODID:-//ogden4arts.org//NONSGML kigkonsult.se iCalcreator 2.30.10//
CALSCALE:GREGORIAN
METHOD:PUBLISH
UID:1ea49ee0-fe18-4618-974d-3713462af4ae
X-WR-CALDESC:Applications for Art Scholarship through the Eccles Art Center
  for Utah High School students are due by January 31\, 2023.  For informat
 ion or to complete an application\, please visit the center’s website at w
 ww.ogden4arts.org.\n \n
X-WR-RELCALID:4db719e1cfa8652b590799d0d1e09a06
X-WR-TIMEZONE:America/Denver
BEGIN:VTIMEZONE
TZID:America/Denver
BEGIN:STANDARD
TZNAME:MST
DTSTART:20221106T020000
TZOFFSETFROM:-0600
TZOFFSETTO:-0700
RDATE:20231105T020000
END:STANDARD
BEGIN:DAYLIGHT
TZNAME:MDT
DTSTART:20220313T020000
TZOFFSETFROM:-0700
TZOFFSETTO:-0600
RDATE:20230312T020000
RDATE:20240310T020000
END:DAYLIGHT
END:VTIMEZONE
BEGIN:VEVENT
UID:c0b6d036-434f-4d19-82fc-0811881d2bd3
DTSTAMP:20260421T173851Z
DESCRIPTION:Applications for Art Scholarship through the Eccles Art Center 
 for Utah High School students are due by January 31\, 2023.  For informati
 on or to complete an application\, please visit the center’s website at ww
 w.ogden4arts.org.\n \n
DTSTART;TZID=America/Denver:20230131T093000
DTEND;TZID=America/Denver:20230131T170000
LOCATION:https://ogden4arts.org/scholarship-programs/
SUMMARY:Applications for Scholarships due
END:VEVENT
END:VCALENDAR
