BEGIN:VCALENDAR
VERSION:2.0
PRODID:-//ogden4arts.org//NONSGML kigkonsult.se iCalcreator 2.30.10//
CALSCALE:GREGORIAN
METHOD:PUBLISH
UID:35c49ffc-2dd9-4da1-a19c-346ca1ce472c
X-WR-CALDESC:Artist/Educator\, Steve Stones will offer an adult Black & Whi
 te Found Image Collage Design class at the Eccles Art Center\, 2580 Jeffer
 son Avenue\, Ogden on Wednesday\, January 25\, 2023 from 7:00 to 8:30 p.m.
  Tuition: $30 includes supplies. Register on-line at www.ogden4arts.org or
  by calling a member of the art center staff at 801-392-6935.
X-WR-RELCALID:b81ddb77817951c6e21a0cb23b1e2624
X-WR-TIMEZONE:America/Denver
BEGIN:VTIMEZONE
TZID:America/Denver
BEGIN:STANDARD
TZNAME:MST
DTSTART:20221106T020000
TZOFFSETFROM:-0600
TZOFFSETTO:-0700
RDATE:20231105T020000
END:STANDARD
BEGIN:DAYLIGHT
TZNAME:MDT
DTSTART:20220313T020000
TZOFFSETFROM:-0700
TZOFFSETTO:-0600
RDATE:20230312T020000
RDATE:20240310T020000
END:DAYLIGHT
END:VTIMEZONE
BEGIN:VEVENT
UID:090dbb7c-82b3-4780-883c-afe5177550b9
DTSTAMP:20260421T173521Z
DESCRIPTION:Artist/Educator\, Steve Stones will offer an adult Black & Whit
 e Found Image Collage Design class at the Eccles Art Center\, 2580 Jeffers
 on Avenue\, Ogden on Wednesday\, January 25\, 2023 from 7:00 to 8:30 p.m. 
 Tuition: $30 includes supplies. Register on-line at www.ogden4arts.org or 
 by calling a member of the art center staff at 801-392-6935.
DTSTART;TZID=America/Denver:20230125T140000
DTEND;TZID=America/Denver:20230125T150000
LOCATION:2580 Jefferson Ave\, Ogden\, UT 84401-2411 US
SUMMARY:Black/White Found Image Collage
END:VEVENT
END:VCALENDAR
