BEGIN:VCALENDAR
VERSION:2.0
PRODID:-//ogden4arts.org//NONSGML kigkonsult.se iCalcreator 2.30.10//
CALSCALE:GREGORIAN
METHOD:PUBLISH
UID:ee589775-2a3d-42db-aedb-77a1e33855a3
X-WR-CALDESC:Artist/Educator Steve Stones will present Textured Collage Des
 ign at the Eccles Art Center on Wednesday\, January 18\, 2023 from 7 to 8:
 30 p.m. An adult oriented workshop to explore adding rubbed textures and g
 eometric shapes to your collage. Tuition: $30 includes supplies. To regist
 er visit www.ogden4rats.org or call a member of the art center staff at 80
 1-392-6935.
X-WR-RELCALID:7a148d9c21af9d260475612ac96a505a
X-WR-TIMEZONE:America/Denver
BEGIN:VTIMEZONE
TZID:America/Denver
BEGIN:STANDARD
TZNAME:MST
DTSTART:20221106T020000
TZOFFSETFROM:-0600
TZOFFSETTO:-0700
RDATE:20231105T020000
END:STANDARD
BEGIN:DAYLIGHT
TZNAME:MDT
DTSTART:20220313T020000
TZOFFSETFROM:-0700
TZOFFSETTO:-0600
RDATE:20230312T020000
RDATE:20240310T020000
END:DAYLIGHT
END:VTIMEZONE
BEGIN:VEVENT
UID:4aefd651-e8b2-4442-8f00-f539d19aeff7
DTSTAMP:20260421T173933Z
DESCRIPTION:Artist/Educator Steve Stones will present Textured Collage Desi
 gn at the Eccles Art Center on Wednesday\, January 18\, 2023 from 7 to 8:3
 0 p.m. An adult oriented workshop to explore adding rubbed textures and ge
 ometric shapes to your collage. Tuition: $30 includes supplies. To registe
 r visit www.ogden4rats.org or call a member of the art center staff at 801
 -392-6935.
DTSTART;TZID=America/Denver:20230118T190000
DTEND;TZID=America/Denver:20230118T203000
LOCATION:2580 Jefferson Ave\, Ogden\, UT 84401-2411 US
SUMMARY:Textured Collage Design with Steve Stones
END:VEVENT
END:VCALENDAR
