BEGIN:VCALENDAR
VERSION:2.0
PRODID:-//ogden4arts.org//NONSGML kigkonsult.se iCalcreator 2.30.10//
CALSCALE:GREGORIAN
METHOD:PUBLISH
UID:6b6e7e95-4749-4f5e-9f1a-28e20e91c830
X-WR-CALDESC:The Eccles Art Center\, 2580 Jefferson Avenue\, Ogden will pre
 sent a special “Exploring Abstract Painting” workshop with artist Darryl E
 rdmann on Friday and Saturday January 13 and 14\, 2023 from 11:00 a.m. to 
 4:00 p.m. This workshop is intended for adult artists working in Acrylics 
 to expand the painting techniques.  A short supply list will be provided t
 o registering students.  Tuition for this two-day workshop is $100.  Pleas
 e pre-register through the art center’s website: www.ogden4arts.org or by 
 calling the center at 801-392-6935.
X-WR-RELCALID:97297301640faa0c4a8eb6f0dd5786a2
X-WR-TIMEZONE:America/Denver
BEGIN:VTIMEZONE
TZID:America/Denver
BEGIN:STANDARD
TZNAME:MST
DTSTART:20221106T020000
TZOFFSETFROM:-0600
TZOFFSETTO:-0700
RDATE:20231105T020000
END:STANDARD
BEGIN:DAYLIGHT
TZNAME:MDT
DTSTART:20220313T020000
TZOFFSETFROM:-0700
TZOFFSETTO:-0600
RDATE:20230312T020000
RDATE:20240310T020000
END:DAYLIGHT
END:VTIMEZONE
BEGIN:VEVENT
UID:a2cc8e11-df19-4749-ba9a-8b407ada4dc3
DTSTAMP:20260421T173734Z
DESCRIPTION:The Eccles Art Center\, 2580 Jefferson Avenue\, Ogden will pres
 ent a special “Exploring Abstract Painting” workshop with artist Darryl Er
 dmann on Friday and Saturday January 13 and 14\, 2023 from 11:00 a.m. to 4
 :00 p.m. This workshop is intended for adult artists working in Acrylics t
 o expand the painting techniques.  A short supply list will be provided to
  registering students.  Tuition for this two-day workshop is $100.  Please
  pre-register through the art center’s website: www.ogden4arts.org or by c
 alling the center at 801-392-6935.
DTSTART;TZID=America/Denver:20230113T110000
DTEND;TZID=America/Denver:20230113T160000
LOCATION:2580 Jefferson Ave\, Ogden\, UT 84401-2411 US
SUMMARY:Exploring Abstract Painting
END:VEVENT
END:VCALENDAR
