BEGIN:VCALENDAR
VERSION:2.0
PRODID:-//ogden4arts.org//NONSGML kigkonsult.se iCalcreator 2.30.10//
CALSCALE:GREGORIAN
METHOD:PUBLISH
UID:6202f3fe-95e4-4a8c-bfe4-c5db3f13d444
X-WR-CALDESC:A new session of Kundalini Yoga with SatMandir Khalsa begins J
 anuary 4th at the Eccles Art Center\, 2580 Jefferson\, Ogden.  This series
  of classes with continue on Wednesday evenings from 6:00 to 7:15 p.m. thr
 ough February 22\, 2023.  Tuition: $55. Those interested in attending may 
 register through the art center’s website www.ogden4arts.org or by calling
  a member of the center’s staff at 801-392-6935.
X-WR-RELCALID:a54cc5838a87d8a3d131efadc0fe647b
X-WR-TIMEZONE:America/Denver
BEGIN:VTIMEZONE
TZID:America/Denver
BEGIN:STANDARD
TZNAME:MST
DTSTART:20221106T020000
TZOFFSETFROM:-0600
TZOFFSETTO:-0700
RDATE:20231105T020000
END:STANDARD
BEGIN:DAYLIGHT
TZNAME:MDT
DTSTART:20220313T020000
TZOFFSETFROM:-0700
TZOFFSETTO:-0600
RDATE:20230312T020000
RDATE:20240310T020000
END:DAYLIGHT
END:VTIMEZONE
BEGIN:VEVENT
UID:edd73f9f-e2e8-4e5c-91e5-ded90c26b054
DTSTAMP:20260421T174050Z
DESCRIPTION:A new session of Kundalini Yoga with SatMandir Khalsa begins Ja
 nuary 4th at the Eccles Art Center\, 2580 Jefferson\, Ogden.  This series 
 of classes with continue on Wednesday evenings from 6:00 to 7:15 p.m. thro
 ugh February 22\, 2023.  Tuition: $55. Those interested in attending may r
 egister through the art center’s website www.ogden4arts.org or by calling 
 a member of the center’s staff at 801-392-6935.
DTSTART;TZID=America/Denver:20230104T180000
DTEND;TZID=America/Denver:20230104T191500
LOCATION:2580 Jefferson Ave\, Ogden\, UT 84401-2411 US
SUMMARY:Kundalini Yoga with SatMandir Khalsa
END:VEVENT
END:VCALENDAR
