BEGIN:VCALENDAR
VERSION:2.0
PRODID:-//ogden4arts.org//NONSGML kigkonsult.se iCalcreator 2.30.10//
CALSCALE:GREGORIAN
METHOD:PUBLISH
UID:0fd6cb3e-4ebf-4a0d-a109-0c2fb791c81d
X-WR-CALDESC:A new session of Fat Chance Belly Dance Level 1 will begin on 
 January 3\, 2023 and run on Tuesdays through February 8\, 2023 from 6:30 t
 o 7:30 p.m. at the Eccles Art Center performing arts building\, 2580 Jeffe
 rson Avenue\, Ogden.  Tuition for 6 classes: $50.  Please register through
  the art center’s website: www.ogden4arts.org or by calling a member of th
 e staff at 801-392-6935.\n\n
X-WR-RELCALID:8b03f527bf486a2d88756b7abec26e8e
X-WR-TIMEZONE:America/Denver
BEGIN:VTIMEZONE
TZID:America/Denver
BEGIN:STANDARD
TZNAME:MST
DTSTART:20221106T020000
TZOFFSETFROM:-0600
TZOFFSETTO:-0700
RDATE:20231105T020000
END:STANDARD
BEGIN:DAYLIGHT
TZNAME:MDT
DTSTART:20220313T020000
TZOFFSETFROM:-0700
TZOFFSETTO:-0600
RDATE:20230312T020000
RDATE:20240310T020000
END:DAYLIGHT
END:VTIMEZONE
BEGIN:VEVENT
UID:18bd7d31-0938-415f-a6e3-be74a85c821e
DTSTAMP:20260421T174043Z
DESCRIPTION:A new session of Fat Chance Belly Dance Level 1 will begin on J
 anuary 3\, 2023 and run on Tuesdays through February 8\, 2023 from 6:30 to
  7:30 p.m. at the Eccles Art Center performing arts building\, 2580 Jeffer
 son Avenue\, Ogden.  Tuition for 6 classes: $50.  Please register through 
 the art center’s website: www.ogden4arts.org or by calling a member of the
  staff at 801-392-6935.\n\n
DTSTART;TZID=America/Denver:20230103T183000
DTEND;TZID=America/Denver:20230103T193000
LOCATION:2580 Jefferson Ave\, Ogden\, UT 84401-2411 US
SUMMARY:Fat Chance Belly Dance Level One
END:VEVENT
END:VCALENDAR
