BEGIN:VCALENDAR
VERSION:2.0
PRODID:-//ogden4arts.org//NONSGML kigkonsult.se iCalcreator 2.30.10//
CALSCALE:GREGORIAN
METHOD:PUBLISH
UID:f754b911-8dda-4cb8-9235-e6180a981782
X-WR-CALDESC:Join the Eccles Art Center's Tai Chi workshop on Tuesday and T
 hursday mornings from 9:30 to 10:30 a.m. Located in Ogden at 2580 Jefferso
 n Avenue the Eccles Art Center holds Tai Chi workshop in its Performing Ar
 ts Building. Tuition: Drop-in $8\, punch pass for 10 classes $55. Interest
 ed? Please pre-register with a member of the EAC 's staff\, as space is li
 mited\, by calling 801-392-6935. Beginning students welcome\, suggested fo
 r those ages 45 and older.
X-WR-RELCALID:513af69b3b85022e1b1826a6d79438f3
X-WR-TIMEZONE:America/Denver
BEGIN:VTIMEZONE
TZID:America/Denver
BEGIN:STANDARD
TZNAME:MST
DTSTART:20221106T020000
TZOFFSETFROM:-0600
TZOFFSETTO:-0700
RDATE:20231105T020000
END:STANDARD
BEGIN:DAYLIGHT
TZNAME:MDT
DTSTART:20220313T020000
TZOFFSETFROM:-0700
TZOFFSETTO:-0600
RDATE:20230312T020000
RDATE:20240310T020000
END:DAYLIGHT
END:VTIMEZONE
BEGIN:VEVENT
UID:7844dd42-4fab-4422-945a-22729e92a270
DTSTAMP:20260421T201223Z
DESCRIPTION:Join the Eccles Art Center's Tai Chi workshop on Tuesday and Th
 ursday mornings from 9:30 to 10:30 a.m. Located in Ogden at 2580 Jefferson
  Avenue the Eccles Art Center holds Tai Chi workshop in its Performing Art
 s Building. Tuition: Drop-in $8\, punch pass for 10 classes $55. Intereste
 d? Please pre-register with a member of the EAC 's staff\, as space is lim
 ited\, by calling 801-392-6935. Beginning students welcome\, suggested for
  those ages 45 and older.
DTSTART;TZID=America/Denver:20221129T093000
DTEND;TZID=America/Denver:20221129T103000
LOCATION:2580 JEFFERSON AVE\, Ogden\, UT 84401 US
SUMMARY:Tai Chi
END:VEVENT
END:VCALENDAR
