BEGIN:VCALENDAR
VERSION:2.0
PRODID:-//ogden4arts.org//NONSGML kigkonsult.se iCalcreator 2.30.10//
CALSCALE:GREGORIAN
METHOD:PUBLISH
UID:a533f574-666e-488f-8644-70f036a17c32
X-WR-CALDESC:Artist/Educator\, Steve Stones will offer an adult Black & Whi
 te Found Image Collage Design class at the Eccles Art Center\, 2580 Jeffer
 son Avenue\, Ogden on Wednesday\, November 16\, 2022 from 7:00 to 8:30 p.m
 .  Tuition: $30 includes supplies.  Register on-line at www.ogden4arts.org
  or by calling a member of the art center staff at 801-392-6935.
X-WR-RELCALID:c252b7f207b94a09f7ec5b1876134197
X-WR-TIMEZONE:America/Denver
BEGIN:VTIMEZONE
TZID:America/Denver
BEGIN:STANDARD
TZNAME:MST
DTSTART:20221106T020000
TZOFFSETFROM:-0600
TZOFFSETTO:-0700
RDATE:20231105T020000
END:STANDARD
BEGIN:DAYLIGHT
TZNAME:MDT
DTSTART:20220313T020000
TZOFFSETFROM:-0700
TZOFFSETTO:-0600
RDATE:20230312T020000
RDATE:20240310T020000
END:DAYLIGHT
END:VTIMEZONE
BEGIN:VEVENT
UID:3ae5cc88-5b2f-4dd2-a400-803922f0c0d8
DTSTAMP:20260421T201112Z
DESCRIPTION:Artist/Educator\, Steve Stones will offer an adult Black & Whit
 e Found Image Collage Design class at the Eccles Art Center\, 2580 Jeffers
 on Avenue\, Ogden on Wednesday\, November 16\, 2022 from 7:00 to 8:30 p.m.
   Tuition: $30 includes supplies.  Register on-line at www.ogden4arts.org 
 or by calling a member of the art center staff at 801-392-6935.
DTSTART;TZID=America/Denver:20221116T190000
DTEND;TZID=America/Denver:20221116T203000
LOCATION:2580 Jefferson Ave\, Ogden\, UT 84401-2411 US
SUMMARY:Black and White Found Image Collage Design
END:VEVENT
END:VCALENDAR
