BEGIN:VCALENDAR
VERSION:2.0
PRODID:-//ogden4arts.org//NONSGML kigkonsult.se iCalcreator 2.30.10//
CALSCALE:GREGORIAN
METHOD:PUBLISH
UID:d62bd616-4f37-4c82-9ccb-af1e255bcf55
X-WR-CALDESC:Sat Mandir Khalsa will guide a Kundalini Yoga class at the Ecc
 les Community Art Center\, 2580 Jefferson Avenue\, Ogden on Wednesday even
 ings 6:00 to 7:15 p.m. September 28 through November 16\, 2022. Class tuit
 ion for an eight-week session: $55. Please call a member of the EAC staff 
 at 801-392-6935 to pre-register. Registration may be accomplished on-line 
 at www.ogden4arts.org
X-WR-RELCALID:73f799bb82d9107c2c0ea668669dcd5b
X-WR-TIMEZONE:America/Denver
BEGIN:VTIMEZONE
TZID:America/Denver
BEGIN:STANDARD
TZNAME:MST
DTSTART:20221106T020000
TZOFFSETFROM:-0600
TZOFFSETTO:-0700
RDATE:20231105T020000
END:STANDARD
BEGIN:DAYLIGHT
TZNAME:MDT
DTSTART:20220313T020000
TZOFFSETFROM:-0700
TZOFFSETTO:-0600
RDATE:20230312T020000
RDATE:20240310T020000
END:DAYLIGHT
END:VTIMEZONE
BEGIN:VEVENT
UID:d9257aac-0e6a-4947-9e69-3aee6e998469
DTSTAMP:20260421T201519Z
DESCRIPTION:Sat Mandir Khalsa will guide a Kundalini Yoga class at the Eccl
 es Community Art Center\, 2580 Jefferson Avenue\, Ogden on Wednesday eveni
 ngs 6:00 to 7:15 p.m. September 28 through November 16\, 2022. Class tuiti
 on for an eight-week session: $55. Please call a member of the EAC staff a
 t 801-392-6935 to pre-register. Registration may be accomplished on-line a
 t www.ogden4arts.org
DTSTART;TZID=America/Denver:20221116T180000
DTEND;TZID=America/Denver:20221116T193000
LOCATION:2580 JEFFERSON AVE\, Ogden\, UT 84401 US
SUMMARY:Kundalini Yoga
END:VEVENT
END:VCALENDAR
