BEGIN:VCALENDAR
VERSION:2.0
PRODID:-//ogden4arts.org//NONSGML kigkonsult.se iCalcreator 2.30.10//
CALSCALE:GREGORIAN
METHOD:PUBLISH
UID:8436c5af-238c-4227-b515-459ca09efa36
X-WR-CALDESC:Artist Nancy Ness will present the workshop “Experimenting wit
 h different Underpaintings” at the Eccles Art Center\, 2580 Jefferson Aven
 ue\, Ogden on Friday and Saturday November 4 and 5\, 2022 from 10:00 to 4:
 30 p.m.  Bringing a sack lunch is recommended. Tuition: $100.  Space is li
 mited.  Please pre-register for the workshop by calling 801-392-6935 or on
 line at www.ogden4arts.org.  Registering students will receive a supply li
 st for the workshop.
X-WR-RELCALID:deff9a3bce7804679239318b1cf0fc1c
X-WR-TIMEZONE:America/Denver
BEGIN:VTIMEZONE
TZID:America/Denver
BEGIN:STANDARD
TZNAME:MST
DTSTART:20211107T020000
TZOFFSETFROM:-0600
TZOFFSETTO:-0700
RDATE:20221106T020000
RDATE:20231105T020000
END:STANDARD
BEGIN:DAYLIGHT
TZNAME:MDT
DTSTART:20220313T020000
TZOFFSETFROM:-0700
TZOFFSETTO:-0600
RDATE:20230312T020000
RDATE:20240310T020000
END:DAYLIGHT
END:VTIMEZONE
BEGIN:VEVENT
UID:ad685bc7-d794-4641-a5ee-8f2f09f7c7cc
DTSTAMP:20260421T201229Z
DESCRIPTION:Artist Nancy Ness will present the workshop “Experimenting with
  different Underpaintings” at the Eccles Art Center\, 2580 Jefferson Avenu
 e\, Ogden on Friday and Saturday November 4 and 5\, 2022 from 10:00 to 4:3
 0 p.m.  Bringing a sack lunch is recommended. Tuition: $100.  Space is lim
 ited.  Please pre-register for the workshop by calling 801-392-6935 or onl
 ine at www.ogden4arts.org.  Registering students will receive a supply lis
 t for the workshop.
DTSTART;TZID=America/Denver:20221104T100000
DTEND;TZID=America/Denver:20221104T163000
LOCATION:2580 JEFFERSON AVE\, Ogden\, UT 84401 US
SUMMARY:Experimenting with Different Underpaintings
END:VEVENT
END:VCALENDAR
