BEGIN:VCALENDAR
VERSION:2.0
PRODID:-//ogden4arts.org//NONSGML kigkonsult.se iCalcreator 2.30.10//
CALSCALE:GREGORIAN
METHOD:PUBLISH
UID:77b0195e-0ff8-4ca4-9572-9d362021855c
X-WR-CALDESC:Local artist/instructor\, Steve Stones will introduce Basic Co
 llage Design at a Wednesday evening adult workshop from 7 to 8:30 p.m. on 
 November 2\, 2022 at the Eccles Art Center\, 2580 Jefferson Avenue\, Ogden
 .  Supplies provided. Tuition: $30.  Register online at www.ogden4arts.org
  or by calling the art center staff at 801-392-6935.
X-WR-RELCALID:e8084e94bc0fab4ea900a544cc2b84c3
X-WR-TIMEZONE:America/Denver
BEGIN:VTIMEZONE
TZID:America/Denver
BEGIN:STANDARD
TZNAME:MST
DTSTART:20211107T020000
TZOFFSETFROM:-0600
TZOFFSETTO:-0700
RDATE:20221106T020000
RDATE:20231105T020000
END:STANDARD
BEGIN:DAYLIGHT
TZNAME:MDT
DTSTART:20220313T020000
TZOFFSETFROM:-0700
TZOFFSETTO:-0600
RDATE:20230312T020000
RDATE:20240310T020000
END:DAYLIGHT
END:VTIMEZONE
BEGIN:VEVENT
UID:a2887f25-8243-497c-8754-3c2c80c42f27
DTSTAMP:20260421T201112Z
DESCRIPTION:Local artist/instructor\, Steve Stones will introduce Basic Col
 lage Design at a Wednesday evening adult workshop from 7 to 8:30 p.m. on N
 ovember 2\, 2022 at the Eccles Art Center\, 2580 Jefferson Avenue\, Ogden.
   Supplies provided. Tuition: $30.  Register online at www.ogden4arts.org 
 or by calling the art center staff at 801-392-6935.
DTSTART;TZID=America/Denver:20221102T190000
DTEND;TZID=America/Denver:20221102T203000
LOCATION:2580 Jefferson Ave\, Ogden\, UT 84401-2411 US
SUMMARY:Introduction to Collage Design
END:VEVENT
END:VCALENDAR
