BEGIN:VCALENDAR
VERSION:2.0
PRODID:-//ogden4arts.org//NONSGML kigkonsult.se iCalcreator 2.30.10//
CALSCALE:GREGORIAN
METHOD:PUBLISH
UID:76a2af7a-0605-4857-8a71-a85dc2ba0fa7
X-WR-CALDESC:Mimi Mackenzie will offer Chair Yoga classes at the Eccles Art
  Center\, 2580 Jefferson Avenue\, Ogden on Tuesday beginning October 4th f
 rom 12:15 to 1:15 p.m. in the Performing Arts Building.  Tuition: $80 for 
 6 classes or $14 drop-in rate per class.  This will be a gentle practice t
 hat mindfully increases student’s range of motion\, strength\, and flexibi
 lity.  Please call a member of the EAC staff at 801-392-6935 to pre-regist
 er. Registration may be accomplished on-line at www.ogden4arts.org
X-WR-RELCALID:173a9eaaa2c9f97db70e14236e059068
X-WR-TIMEZONE:America/Denver
BEGIN:VTIMEZONE
TZID:America/Denver
BEGIN:STANDARD
TZNAME:MST
DTSTART:20211107T020000
TZOFFSETFROM:-0600
TZOFFSETTO:-0700
RDATE:20221106T020000
RDATE:20231105T020000
END:STANDARD
BEGIN:DAYLIGHT
TZNAME:MDT
DTSTART:20220313T020000
TZOFFSETFROM:-0700
TZOFFSETTO:-0600
RDATE:20230312T020000
RDATE:20240310T020000
END:DAYLIGHT
END:VTIMEZONE
BEGIN:VEVENT
UID:9d3e0b2a-8900-43d7-9b23-776eac361138
DTSTAMP:20260421T201631Z
DESCRIPTION:Mimi Mackenzie will offer Chair Yoga classes at the Eccles Art 
 Center\, 2580 Jefferson Avenue\, Ogden on Tuesday beginning October 4th fr
 om 12:15 to 1:15 p.m. in the Performing Arts Building.  Tuition: $80 for 6
  classes or $14 drop-in rate per class.  This will be a gentle practice th
 at mindfully increases student’s range of motion\, strength\, and flexibil
 ity.  Please call a member of the EAC staff at 801-392-6935 to pre-registe
 r. Registration may be accomplished on-line at www.ogden4arts.org
DTSTART;TZID=America/Denver:20221101T121500
DTEND;TZID=America/Denver:20221101T131500
LOCATION:2580 JEFFERSON AVE\, Ogden\, UT 84401 US
SUMMARY:Chair Yoga with Mimi Mackenzie
END:VEVENT
END:VCALENDAR
