BEGIN:VCALENDAR
VERSION:2.0
PRODID:-//ogden4arts.org//NONSGML kigkonsult.se iCalcreator 2.30.10//
CALSCALE:GREGORIAN
METHOD:PUBLISH
UID:b00692f1-00b1-4fd6-8eae-f230a082fc3a
X-WR-CALDESC:Join the Eccles Art Center's Tai Chi workshop on Tuesday and T
 hursday mornings from 9:30 to 10:30 a.m. Located in Ogden at 2580 Jefferso
 n Avenue the Eccles Art Center holds Tai Chi workshop in its Performing Ar
 ts Building. Tuition: Drop-in $8\, punch pass for 10 classes $55. Interest
 ed? Please pre-register with a member of the EAC 's staff\, as space is li
 mited\, by calling 801-392-6935. Beginning students welcome\, suggested fo
 r those ages 45 and older.
X-WR-RELCALID:9ff532dc876b373993f91831af5ab183
X-WR-TIMEZONE:America/Denver
BEGIN:VTIMEZONE
TZID:America/Denver
BEGIN:STANDARD
TZNAME:MST
DTSTART:20211107T020000
TZOFFSETFROM:-0600
TZOFFSETTO:-0700
RDATE:20221106T020000
RDATE:20231105T020000
END:STANDARD
BEGIN:DAYLIGHT
TZNAME:MDT
DTSTART:20220313T020000
TZOFFSETFROM:-0700
TZOFFSETTO:-0600
RDATE:20230312T020000
RDATE:20240310T020000
END:DAYLIGHT
END:VTIMEZONE
BEGIN:VEVENT
UID:7662c5b8-b910-4e88-86d0-ba9ec64aaea1
DTSTAMP:20260421T201224Z
DESCRIPTION:Join the Eccles Art Center's Tai Chi workshop on Tuesday and Th
 ursday mornings from 9:30 to 10:30 a.m. Located in Ogden at 2580 Jefferson
  Avenue the Eccles Art Center holds Tai Chi workshop in its Performing Art
 s Building. Tuition: Drop-in $8\, punch pass for 10 classes $55. Intereste
 d? Please pre-register with a member of the EAC 's staff\, as space is lim
 ited\, by calling 801-392-6935. Beginning students welcome\, suggested for
  those ages 45 and older.
DTSTART;TZID=America/Denver:20221101T093000
DTEND;TZID=America/Denver:20221101T103000
LOCATION:2580 JEFFERSON AVE\, Ogden\, UT 84401 US
SUMMARY:Tai Chi
END:VEVENT
END:VCALENDAR
